BEGIN:VCALENDAR
VERSION:2.0
PRODID:-//SLRG Bern - ECPv6.15.18//NONSGML v1.0//EN
CALSCALE:GREGORIAN
METHOD:PUBLISH
X-ORIGINAL-URL:https://slrgbern.ch
X-WR-CALDESC:Veranstaltungen für SLRG Bern
REFRESH-INTERVAL;VALUE=DURATION:PT1H
X-Robots-Tag:noindex
X-PUBLISHED-TTL:PT1H
BEGIN:VTIMEZONE
TZID:Europe/Helsinki
BEGIN:DAYLIGHT
TZOFFSETFROM:+0200
TZOFFSETTO:+0300
TZNAME:EEST
DTSTART:20250330T010000
END:DAYLIGHT
BEGIN:STANDARD
TZOFFSETFROM:+0300
TZOFFSETTO:+0200
TZNAME:EET
DTSTART:20251026T010000
END:STANDARD
BEGIN:DAYLIGHT
TZOFFSETFROM:+0200
TZOFFSETTO:+0300
TZNAME:EEST
DTSTART:20260329T010000
END:DAYLIGHT
BEGIN:STANDARD
TZOFFSETFROM:+0300
TZOFFSETTO:+0200
TZNAME:EET
DTSTART:20261025T010000
END:STANDARD
BEGIN:DAYLIGHT
TZOFFSETFROM:+0200
TZOFFSETTO:+0300
TZNAME:EEST
DTSTART:20270328T010000
END:DAYLIGHT
BEGIN:STANDARD
TZOFFSETFROM:+0300
TZOFFSETTO:+0200
TZNAME:EET
DTSTART:20271031T010000
END:STANDARD
END:VTIMEZONE
BEGIN:VEVENT
DTSTART;TZID=Europe/Helsinki:20260508T184500
DTEND;TZID=Europe/Helsinki:20260508T210000
DTSTAMP:20260425T173021
CREATED:20260111T105247Z
LAST-MODIFIED:20260111T105247Z
UID:2555-1778265900-1778274000@slrgbern.ch
SUMMARY:WK Pool Basis
DESCRIPTION:Kursdauer: 1 Abend
URL:https://slrgbern.ch/kurs/wk-pool-basis-6/
LOCATION:Hallenbad Weyermannshaus\, Stöckackerstrasse 9\, Bern\, 3027
END:VEVENT
BEGIN:VEVENT
DTSTART;TZID=Europe/Helsinki:20260508T184500
DTEND;TZID=Europe/Helsinki:20260508T210000
DTSTAMP:20260425T173021
CREATED:20260111T105546Z
LAST-MODIFIED:20260111T105809Z
UID:2557-1778265900-1778274000@slrgbern.ch
SUMMARY:WK Pool Plus
DESCRIPTION:Kursdauer: 1 Abend
URL:https://slrgbern.ch/kurs/wk-pool-plus-7/
LOCATION:Hallenbad Weyermannshaus\, Stöckackerstrasse 9\, Bern\, 3027
END:VEVENT
END:VCALENDAR