BEGIN:VCALENDAR
VERSION:2.0
PRODID:-//SLRG Bern - ECPv6.15.18//NONSGML v1.0//EN
CALSCALE:GREGORIAN
METHOD:PUBLISH
X-WR-CALNAME:SLRG Bern
X-ORIGINAL-URL:https://slrgbern.ch
X-WR-CALDESC:Veranstaltungen für SLRG Bern
REFRESH-INTERVAL;VALUE=DURATION:PT1H
X-Robots-Tag:noindex
X-PUBLISHED-TTL:PT1H
BEGIN:VTIMEZONE
TZID:Europe/Helsinki
BEGIN:DAYLIGHT
TZOFFSETFROM:+0200
TZOFFSETTO:+0300
TZNAME:EEST
DTSTART:20240331T010000
END:DAYLIGHT
BEGIN:STANDARD
TZOFFSETFROM:+0300
TZOFFSETTO:+0200
TZNAME:EET
DTSTART:20241027T010000
END:STANDARD
BEGIN:DAYLIGHT
TZOFFSETFROM:+0200
TZOFFSETTO:+0300
TZNAME:EEST
DTSTART:20250330T010000
END:DAYLIGHT
BEGIN:STANDARD
TZOFFSETFROM:+0300
TZOFFSETTO:+0200
TZNAME:EET
DTSTART:20251026T010000
END:STANDARD
BEGIN:DAYLIGHT
TZOFFSETFROM:+0200
TZOFFSETTO:+0300
TZNAME:EEST
DTSTART:20260329T010000
END:DAYLIGHT
BEGIN:STANDARD
TZOFFSETFROM:+0300
TZOFFSETTO:+0200
TZNAME:EET
DTSTART:20261025T010000
END:STANDARD
BEGIN:DAYLIGHT
TZOFFSETFROM:+0200
TZOFFSETTO:+0300
TZNAME:EEST
DTSTART:20270328T010000
END:DAYLIGHT
BEGIN:STANDARD
TZOFFSETFROM:+0300
TZOFFSETTO:+0200
TZNAME:EET
DTSTART:20271031T010000
END:STANDARD
END:VTIMEZONE
BEGIN:VEVENT
DTSTART;TZID=Europe/Helsinki:20260411T134500
DTEND;TZID=Europe/Helsinki:20260411T163000
DTSTAMP:20260425T182247
CREATED:20260111T105054Z
LAST-MODIFIED:20260111T105054Z
UID:2551-1775915100-1775925000@slrgbern.ch
SUMMARY:WK Pool Pro
DESCRIPTION:Kursdauer: 1 Nachmittag
URL:https://slrgbern.ch/kurs/wk-pool-pro-2/
LOCATION:Hallenbad Weyermannshaus\, Stöckackerstrasse 9\, Bern\, 3027
END:VEVENT
BEGIN:VEVENT
DTSTART;TZID=Europe/Helsinki:20260411T134500
DTEND;TZID=Europe/Helsinki:20260411T163000
DTSTAMP:20260425T182247
CREATED:20260111T104754Z
LAST-MODIFIED:20260111T104817Z
UID:2546-1775915100-1775925000@slrgbern.ch
SUMMARY:WK Pool Basis
DESCRIPTION:Kursdauer: 1 Nachmittag
URL:https://slrgbern.ch/kurs/wk-pool-basis-5/
LOCATION:Hallenbad Weyermannshaus\, Stöckackerstrasse 9\, Bern\, 3027
END:VEVENT
BEGIN:VEVENT
DTSTART;TZID=Europe/Helsinki:20260411T134500
DTEND;TZID=Europe/Helsinki:20260411T160000
DTSTAMP:20260425T182247
CREATED:20260111T105000Z
LAST-MODIFIED:20260111T105000Z
UID:2549-1775915100-1775923200@slrgbern.ch
SUMMARY:WK Pool Plus
DESCRIPTION:Kursdauer: 1 Nachmittag
URL:https://slrgbern.ch/kurs/wk-pool-plus-6/
LOCATION:Hallenbad Weyermannshaus\, Stöckackerstrasse 9\, Bern\, 3027
END:VEVENT
BEGIN:VEVENT
DTSTART;TZID=Europe/Helsinki:20260316T180000
DTEND;TZID=Europe/Helsinki:20260316T210000
DTSTAMP:20260425T182247
CREATED:20260111T104613Z
LAST-MODIFIED:20260111T104613Z
UID:2544-1773684000-1773694800@slrgbern.ch
SUMMARY:WK BLS-AED
DESCRIPTION:Kursdauer: 1 Abend
URL:https://slrgbern.ch/kurs/wk-bls-aed-4/
LOCATION:Theorieraum Wankdorfhalle\, Papiermühlestrasse 91\, Bern\, 3014\, Switzerland
END:VEVENT
BEGIN:VEVENT
DTSTART;TZID=Europe/Helsinki:20260312T190000
DTEND;TZID=Europe/Helsinki:20260312T210000
DTSTAMP:20260425T182247
CREATED:20260111T104508Z
LAST-MODIFIED:20260111T104508Z
UID:2542-1773342000-1773349200@slrgbern.ch
SUMMARY:Brevet Pro Pool
DESCRIPTION:Kursdauer: 12.3. bis 27.3.
URL:https://slrgbern.ch/kurs/brevet-pro-pool-2/
LOCATION:Hallenbad Weyermannshaus\, Stöckackerstrasse 9\, Bern\, 3027
END:VEVENT
BEGIN:VEVENT
DTSTART;TZID=Europe/Helsinki:20260212T190000
DTEND;TZID=Europe/Helsinki:20260212T210000
DTSTAMP:20260425T182247
CREATED:20260111T103553Z
LAST-MODIFIED:20260111T103553Z
UID:2540-1770922800-1770930000@slrgbern.ch
SUMMARY:Brevet Plus Pool
DESCRIPTION:Kursdauer: 12.2. bis 5.3.
URL:https://slrgbern.ch/kurs/brevet-plus-pool-3/
LOCATION:Hallenbad Weyermannshaus\, Stöckackerstrasse 9\, Bern\, 3027
END:VEVENT
BEGIN:VEVENT
DTSTART;TZID=Europe/Helsinki:20260126T190000
DTEND;TZID=Europe/Helsinki:20260126T210000
DTSTAMP:20260425T182247
CREATED:20260111T103443Z
LAST-MODIFIED:20260111T103443Z
UID:2538-1769454000-1769461200@slrgbern.ch
SUMMARY:Modul BLS-AED
DESCRIPTION:Kursdauer: 26.1. bis 2.2.
URL:https://slrgbern.ch/kurs/modul-bls-aed-3/
LOCATION:Theorieraum Wankdorfhalle\, Papiermühlestrasse 91\, Bern\, 3014\, Switzerland
END:VEVENT
BEGIN:VEVENT
DTSTART;TZID=Europe/Helsinki:20260108T190000
DTEND;TZID=Europe/Helsinki:20260108T210000
DTSTAMP:20260425T182247
CREATED:20260111T103141Z
LAST-MODIFIED:20260111T103141Z
UID:2536-1767898800-1767906000@slrgbern.ch
SUMMARY:Brevet Basis Pool
DESCRIPTION:Kursdauer: 8.1. bis 29.1.
URL:https://slrgbern.ch/kurs/brevet-basis-pool-2/
LOCATION:Hallenbad Weyermannshaus\, Stöckackerstrasse 9\, Bern\, 3027
END:VEVENT
BEGIN:VEVENT
DTSTART;TZID=Europe/Helsinki:20251129T134500
DTEND;TZID=Europe/Helsinki:20251129T160000
DTSTAMP:20260425T182247
CREATED:20250211T165426Z
LAST-MODIFIED:20250211T165426Z
UID:2240-1764423900-1764432000@slrgbern.ch
SUMMARY:WK Pool Plus
DESCRIPTION:Kursdauer: 1 Nachmittag
URL:https://slrgbern.ch/kurs/wk-pool-plus-5/
LOCATION:Hallenbad Weyermannshaus\, Stöckackerstrasse 9\, Bern\, 3027
END:VEVENT
BEGIN:VEVENT
DTSTART;TZID=Europe/Helsinki:20251129T134500
DTEND;TZID=Europe/Helsinki:20251129T160000
DTSTAMP:20260425T182247
CREATED:20250211T165319Z
LAST-MODIFIED:20250211T165319Z
UID:2238-1764423900-1764432000@slrgbern.ch
SUMMARY:WK Pool Basis
DESCRIPTION:Kursdauer: 1 Nachmittag
URL:https://slrgbern.ch/kurs/wk-pool-basis-4/
LOCATION:Hallenbad Weyermannshaus\, Stöckackerstrasse 9\, Bern\, 3027
END:VEVENT
BEGIN:VEVENT
DTSTART;TZID=Europe/Helsinki:20251101T083000
DTEND;TZID=Europe/Helsinki:20251101T113000
DTSTAMP:20260425T182247
CREATED:20250211T165212Z
LAST-MODIFIED:20250211T165212Z
UID:2236-1761985800-1761996600@slrgbern.ch
SUMMARY:WK BLS-AED
DESCRIPTION:Kursdauer: 1 Vormittag
URL:https://slrgbern.ch/kurs/wk-bls-aed-3/
LOCATION:Theorieraum Wankdorfhalle\, Papiermühlestrasse 91\, Bern\, 3014\, Switzerland
END:VEVENT
BEGIN:VEVENT
DTSTART;TZID=Europe/Helsinki:20251031T184500
DTEND;TZID=Europe/Helsinki:20251031T210000
DTSTAMP:20260425T182247
CREATED:20250211T164927Z
LAST-MODIFIED:20250211T164927Z
UID:2234-1761936300-1761944400@slrgbern.ch
SUMMARY:WK Pool Plus
DESCRIPTION:Kursdauer: 1 Abend
URL:https://slrgbern.ch/kurs/wk-pool-plus-4/
LOCATION:Hallenbad Weyermannshaus\, Stöckackerstrasse 9\, Bern\, 3027
END:VEVENT
BEGIN:VEVENT
DTSTART;TZID=Europe/Helsinki:20251031T184500
DTEND;TZID=Europe/Helsinki:20251031T210000
DTSTAMP:20260425T182247
CREATED:20250211T164822Z
LAST-MODIFIED:20250211T164822Z
UID:2232-1761936300-1761944400@slrgbern.ch
SUMMARY:WK Pool
DESCRIPTION:Kursdauer: 1 Abend
URL:https://slrgbern.ch/kurs/wk-pool/
LOCATION:Hallenbad Weyermannshaus\, Stöckackerstrasse 9\, Bern\, 3027
END:VEVENT
BEGIN:VEVENT
DTSTART;TZID=Europe/Helsinki:20251016T190000
DTEND;TZID=Europe/Helsinki:20251016T210000
DTSTAMP:20260425T182247
CREATED:20250211T164701Z
LAST-MODIFIED:20250211T164701Z
UID:2230-1760641200-1760648400@slrgbern.ch
SUMMARY:Brevet Plus Pool
DESCRIPTION:Kursdauer: 16.10. bis 6.11.2025
URL:https://slrgbern.ch/kurs/brevet-plus-pool-2/
LOCATION:Hallenbad Weyermannshaus\, Stöckackerstrasse 9\, Bern\, 3027
END:VEVENT
BEGIN:VEVENT
DTSTART;TZID=Europe/Helsinki:20251013T190000
DTEND;TZID=Europe/Helsinki:20251013T210000
DTSTAMP:20260425T182247
CREATED:20250211T164545Z
LAST-MODIFIED:20250211T164545Z
UID:2228-1760382000-1760389200@slrgbern.ch
SUMMARY:Modul BLS-AED
DESCRIPTION:Kursdauer: 13.10. bis 20.10.2025
URL:https://slrgbern.ch/kurs/modul-bls-aed-2/
LOCATION:Theorieraum Wankdorfhalle\, Papiermühlestrasse 91\, Bern\, 3014\, Switzerland
END:VEVENT
BEGIN:VEVENT
DTSTART;TZID=Europe/Helsinki:20250821T190000
DTEND;TZID=Europe/Helsinki:20250821T210000
DTSTAMP:20260425T182247
CREATED:20250211T164419Z
LAST-MODIFIED:20250211T164419Z
UID:2226-1755802800-1755810000@slrgbern.ch
SUMMARY:Brevet Basis Pool
DESCRIPTION:Kursdauer: 21.8. bis 11.9.2025
URL:https://slrgbern.ch/kurs/brevet-basis-pool/
LOCATION:Hallenbad Weyermannshaus\, Stöckackerstrasse 9\, Bern\, 3027
END:VEVENT
BEGIN:VEVENT
DTSTART;TZID=Europe/Helsinki:20250710T140000
DTEND;TZID=Europe/Helsinki:20250710T163000
DTSTAMP:20260425T182247
CREATED:20250211T164308Z
LAST-MODIFIED:20250211T164308Z
UID:2224-1752156000-1752165000@slrgbern.ch
SUMMARY:Jugend Erlebnismodul
DESCRIPTION:Kursdauer: 10.7. bis 11.7.2025
URL:https://slrgbern.ch/kurs/jugend-erlebnismodul/
LOCATION:Hallenbad Weyermannshaus\, Stöckackerstrasse 9\, Bern\, 3027
END:VEVENT
BEGIN:VEVENT
DTSTART;TZID=Europe/Helsinki:20250707T140000
DTEND;TZID=Europe/Helsinki:20250707T163000
DTSTAMP:20260425T182247
CREATED:20250211T164041Z
LAST-MODIFIED:20250211T164208Z
UID:2219-1751896800-1751905800@slrgbern.ch
SUMMARY:Jugendbrevet
DESCRIPTION:Kursdauer: 7.7. bis 9.7.2025
URL:https://slrgbern.ch/kurs/jugendbrevet/
LOCATION:Hallenbad Weyermannshaus\, Stöckackerstrasse 9\, Bern\, 3027
END:VEVENT
BEGIN:VEVENT
DTSTART;TZID=Europe/Helsinki:20250706T090000
DTEND;TZID=Europe/Helsinki:20250706T160000
DTSTAMP:20260425T182247
CREATED:20250211T163844Z
LAST-MODIFIED:20250211T163844Z
UID:2217-1751792400-1751817600@slrgbern.ch
SUMMARY:Modul Fluss
DESCRIPTION:Kursdauer: 1 Tag\nOnline-Theorie: 2.7. Abend
URL:https://slrgbern.ch/kurs/modul-fluss-2/
LOCATION:Welle Worblaufen\, Arastrasse\, Worblaufen\, 3048
END:VEVENT
BEGIN:VEVENT
DTSTART;TZID=Europe/Helsinki:20250705T090000
DTEND;TZID=Europe/Helsinki:20250705T160000
DTSTAMP:20260425T182247
CREATED:20250211T163707Z
LAST-MODIFIED:20250211T163719Z
UID:2215-1751706000-1751731200@slrgbern.ch
SUMMARY:Modul See
DESCRIPTION:Kursdauer: 1 Tag\nOnline-Theorie: 30.6. Abend
URL:https://slrgbern.ch/kurs/modul-see-2/
LOCATION:Strandbad Moossee\, Badweg 23\, Moosseedorf\, 3302
END:VEVENT
BEGIN:VEVENT
DTSTART;TZID=Europe/Helsinki:20250622T090000
DTEND;TZID=Europe/Helsinki:20250622T160000
DTSTAMP:20260425T182247
CREATED:20250211T163457Z
LAST-MODIFIED:20250211T163500Z
UID:2213-1750582800-1750608000@slrgbern.ch
SUMMARY:Modul Fluss
DESCRIPTION:Kursdauer: 1 Tag\nOnline-Theorie: 18.6. Abend
URL:https://slrgbern.ch/kurs/modul-fluss/
LOCATION:Welle Worblaufen\, Arastrasse\, Worblaufen\, 3048
END:VEVENT
BEGIN:VEVENT
DTSTART;TZID=Europe/Helsinki:20250621T090000
DTEND;TZID=Europe/Helsinki:20250621T160000
DTSTAMP:20260425T182247
CREATED:20250211T162343Z
LAST-MODIFIED:20250211T162627Z
UID:2207-1750496400-1750521600@slrgbern.ch
SUMMARY:Modul See
DESCRIPTION:Kursdauer: 1 Tag\nOnline-Theorie: 16.6. Abend
URL:https://slrgbern.ch/kurs/modul-see/
LOCATION:Strandbad Moossee\, Badweg 23\, Moosseedorf\, 3302
END:VEVENT
BEGIN:VEVENT
DTSTART;TZID=Europe/Helsinki:20250516T184500
DTEND;TZID=Europe/Helsinki:20250516T210000
DTSTAMP:20260425T182247
CREATED:20241227T193606Z
LAST-MODIFIED:20241227T193606Z
UID:2130-1747421100-1747429200@slrgbern.ch
SUMMARY:WK Pool Plus
DESCRIPTION:Kursdauer: 1 Abend
URL:https://slrgbern.ch/kurs/wk-pool-plus-3/
LOCATION:Hallenbad Weyermannshaus\, Stöckackerstrasse 9\, Bern\, 3027
END:VEVENT
BEGIN:VEVENT
DTSTART;TZID=Europe/Helsinki:20250516T184500
DTEND;TZID=Europe/Helsinki:20250516T210000
DTSTAMP:20260425T182247
CREATED:20241227T193504Z
LAST-MODIFIED:20241227T193504Z
UID:2128-1747421100-1747429200@slrgbern.ch
SUMMARY:WK Pool Basis
DESCRIPTION:Kursdauer: 1 Abend
URL:https://slrgbern.ch/kurs/wk-pool-basis-3/
LOCATION:Hallenbad Weyermannshaus\, Stöckackerstrasse 9\, Bern\, 3027
END:VEVENT
BEGIN:VEVENT
DTSTART;TZID=Europe/Helsinki:20250505T183000
DTEND;TZID=Europe/Helsinki:20250505T213000
DTSTAMP:20260425T182247
CREATED:20250211T161644Z
LAST-MODIFIED:20250211T162941Z
UID:2203-1746469800-1746480600@slrgbern.ch
SUMMARY:WK BLS-AED
DESCRIPTION:Kursdauer: 1 Abend
URL:https://slrgbern.ch/kurs/wk-bls-aed-2/
LOCATION:Theorieraum Wankdorfhalle\, Papiermühlestrasse 91\, Bern\, 3014\, Switzerland
END:VEVENT
BEGIN:VEVENT
DTSTART;TZID=Europe/Helsinki:20250405T134500
DTEND;TZID=Europe/Helsinki:20250405T163000
DTSTAMP:20260425T182247
CREATED:20241227T193353Z
LAST-MODIFIED:20241227T193353Z
UID:2126-1743860700-1743870600@slrgbern.ch
SUMMARY:WK Pool Basis
DESCRIPTION:Kursdauer: 1 Nachmittag
URL:https://slrgbern.ch/kurs/wk-pool-basis-2/
LOCATION:Hallenbad Weyermannshaus\, Stöckackerstrasse 9\, Bern\, 3027
END:VEVENT
BEGIN:VEVENT
DTSTART;TZID=Europe/Helsinki:20250405T134500
DTEND;TZID=Europe/Helsinki:20250405T163000
DTSTAMP:20260425T182247
CREATED:20241227T193115Z
LAST-MODIFIED:20241227T193641Z
UID:2122-1743860700-1743870600@slrgbern.ch
SUMMARY:WK Pool Pro
DESCRIPTION:Kursdauer: 1 Nachmittag
URL:https://slrgbern.ch/kurs/wk-pool-pro/
LOCATION:Hallenbad Weyermannshaus\, Stöckackerstrasse 9\, Bern\, 3027
END:VEVENT
BEGIN:VEVENT
DTSTART;TZID=Europe/Helsinki:20250405T134500
DTEND;TZID=Europe/Helsinki:20250405T160000
DTSTAMP:20260425T182247
CREATED:20241227T193219Z
LAST-MODIFIED:20241227T193659Z
UID:2124-1743860700-1743868800@slrgbern.ch
SUMMARY:WK Pool Plus
DESCRIPTION:Kursdauer: 1 Nachmittag
URL:https://slrgbern.ch/kurs/wk-pool-plus-2/
LOCATION:Hallenbad Weyermannshaus\, Stöckackerstrasse 9\, Bern\, 3027
END:VEVENT
BEGIN:VEVENT
DTSTART;TZID=Europe/Helsinki:20250325T190000
DTEND;TZID=Europe/Helsinki:20250325T210000
DTSTAMP:20260425T182247
CREATED:20241227T193007Z
LAST-MODIFIED:20241227T193007Z
UID:2120-1742929200-1742936400@slrgbern.ch
SUMMARY:WK Pool Basis
DESCRIPTION:Kursdauer: 1 Abend
URL:https://slrgbern.ch/kurs/wk-pool-basis/
LOCATION:Hallenbad Weyermannshaus\, Stöckackerstrasse 9\, Bern\, 3027
END:VEVENT
BEGIN:VEVENT
DTSTART;TZID=Europe/Helsinki:20250325T190000
DTEND;TZID=Europe/Helsinki:20250325T210000
DTSTAMP:20260425T182247
CREATED:20241227T192825Z
LAST-MODIFIED:20241227T192825Z
UID:2118-1742929200-1742936400@slrgbern.ch
SUMMARY:WK Pool Plus
DESCRIPTION:Kursdauer: 1 Abend
URL:https://slrgbern.ch/kurs/wk-pool-plus/
LOCATION:Hallenbad Weyermannshaus\, Stöckackerstrasse 9\, Bern\, 3027
END:VEVENT
END:VCALENDAR